BEGIN:VCALENDAR
VERSION:2.0
PRODID:-//Odoo//Event//EN
CALSCALE:GREGORIAN
METHOD:PUBLISH
BEGIN:VEVENT
UID:12687@ewomennetwork.com
DTSTAMP:20260420T102722Z
DTSTART:20260423T183000Z
DTEND:20260423T203000Z
SUMMARY:Strategic In-Person Business Introductions
DESCRIPTION:Event Name: Strategic In-Person Business Introductions
LOCATION:Taverna Tony
END:VEVENT
END:VCALENDAR
