BEGIN:VCALENDAR
VERSION:2.0
PRODID:-//Odoo//Event//EN
CALSCALE:GREGORIAN
METHOD:PUBLISH
BEGIN:VEVENT
UID:12300@ewomennetwork.com
DTSTAMP:20260426T021131Z
DTSTART:20260722T170000Z
DTEND:20260722T190000Z
SUMMARY:Strategic In-Person Business Introductions
DESCRIPTION:Event Name: Strategic In-Person Business Introductions
LOCATION:Columbia Bank
END:VEVENT
END:VCALENDAR
