BEGIN:VCALENDAR
VERSION:2.0
PRODID:-//Odoo//Event//EN
CALSCALE:GREGORIAN
METHOD:PUBLISH
BEGIN:VEVENT
UID:12057@ewomennetwork.com
DTSTAMP:20260420T024153Z
DTSTART:20261104T200000Z
DTEND:20261104T220000Z
SUMMARY:Strategic Online Business Introductions
DESCRIPTION:Event Name: Strategic Online Business Introductions\nOnline Link: https://us02web.zoom.us/j/82218288245?pwd=ugf7Hac6OoOzGJ73UKY9uTXaaeWWyi.1
LOCATION:Online Event - Zoom
END:VEVENT
END:VCALENDAR
